BEGIN:VCALENDAR
VERSION:2.0
PRODID:icalendar-ruby
CALSCALE:GREGORIAN
METHOD:PUBLISH
BEGIN:VEVENT
DTSTAMP:20260421T205657Z
UID:9-707129@ccdeeperwaters.com
DTSTART:20261018T170000Z
DTEND:20261018T193000Z
CLASS:PUBLIC
CREATED:20260421T121745
DESCRIPTION:Come join us as we Worship and study God's Word Chapter by Chap
 ter\, Verse by Verse. \nWe meet insode Deep Roots Montessori every Sunday
  at 10am. \nHope to see you there! 
LAST-MODIFIED:20260421T121745
LOCATION:1722 W White Street Anna\, TX 75409
SUMMARY:Sunday Worship
URL;VALUE=URI:https://www.ccdeeperwaters.com/events/sunday-worship/2026-10-
 18
ATTACH;FILENAME=CCDW-sunday.jpg;FMTTYPE=image/jpeg:https://dq5pwpg1q8ru0.cl
 oudfront.net/2024/04/27/23/57/21/4b1cea58-ce73-4651-98db-67ba7c504c30/CCDW
 -sunday.jpg
END:VEVENT
END:VCALENDAR
